Workbook
Name KIT: Bakgrunnsdata!$C$3:$C$5

Sheet Tjeneste
B9: Tjeneste / system : | C9: FlexNet Manager Suite (FNMS)
B10: Tjenesteeier / systemeier: | C10: USIT/GDW
B11: Dato: | C11: 30.september 2020
B12: Beskrivelse: | C12: Software Asset Management (SAM) for UiO
B13: Utført av: | C13: Alexander Hjelton Kvam
B14: Deltakere: | C14: Tor Fuglerud Øyvind Wormnes

Sheet Risikovurdering
A1: Område | B1: Nr. | C1: Risikoelement | D1: Sårbarhet / svakhet | E1: Eksisterende beskyttelses tiltak | F1: Eksisterende kontrolltiltak | G1: K I T | H1: Sannsynlighet | I1: Konsekvens | J1: Risikonivå | K1: Foreslåtte tiltak
A2: Brukere og tilganger | B2: 1 | C2: Brukere får ikke tilgang til systemet | D2: Manuelle rutiner for opprettelse av brukere | E2: FEIDE? Weblogin? Windows domene? | H2: 1 | I2: 1 | J2: =H2*I2 -> 1
B3: 2 | C3: Bruker beholder tilgang etter at bruker har sluttet / endret stilling | D3: Dårlige rutiner for avslutning av brukere, manglende automatikk | E3: Eksisterende SAP rutine | H3: 1 | I3: 1 | J3: =H3*I3 -> 1
B4: 3 | C4: Bruker får flere tiltanger enn nødvendig | D4: Lite granulerte tilganger, vanskelig å vudere hva en bruker skal ha, kopierer tilganger til andre. Uklare rutiner for hvem som godkjenner tilganger. | H4: 1 | I4: 1 | J4: =H4*I4 -> 1
B5: 4 | C5: Brukere beholder admin. / superbruker rettigheter for lenge | D5: Manuelle rutiner for vedlikehold av admin / superbrukere | E5: Finnes ikke | H5: 1 | I5: 1 | J5: =H5*I5 -> 1
B6: 5 | C6: Uvedkommende får tilgang pga. passord på avveie. | D6: Usikker oppbevaring av passord, passord som brukes på flere systemer. Lite komplekse passord. | E6: Eksisterende passordrutiner | F6: CERT | H6: 2 | I6: 1 | J6: =H6*I6 -> 2
B7: 6 | C7: Data kommer på avveie pga. utro tjener blant driftspersonell | D7: Dårlig opplæring/sjekk av driftspersonell. Konsulenter med for mye tilgang, for mange med systemtilgang. | H7: 1 | I7: 2 | J7: =H7*I7 -> 2 | K7: Rutinebeskrivelse for utlevering av data
B8: 7 | C8: Data eksponeres for mye pga. for mange med systemtilganger | D8: Lite granulerte system/drift tilganger | E8: Begrenset med tilganger per person | H8: 1 | I8: 2 | J8: =H8*I8 -> 2 | K8: God dokumtenert rutine for opprettelse av tilganger i FNMS. Alltid 2 administratorer.
B9: 8 | C9: Data kommer på avveie pga. ekstern tilgang for leverandør, konsulenter eller underleverandører | D9: Tilganger er gitt til eksterne for oppsett, drift eller feilsøking. Ikke tilstrekkelig sikring og kontroll med hva som utføres av arbeid. | H9: 1 | I9: 1 | J9: =H9*I9 -> 1 | K9: Eksterne har tilgang under installasjon/igangsettelse, men vil bli fjernet når vi er i prod
B10: 9 | C10: Passord lagres i løsningen | D10: Benytter ikke felles innloggingsmekanismer som AD, FEIDE, Weblogin el.l. | H10: 1 | I10: 1 | J10: =H10*I10 -> 1 | K10: Ingen passord lagres i løsningen
A11: Teknisk drift | B11: 10 | C11: Systemet driftes ikke forsvarlig | E11: Ikke relevant, internt system | H11: 1 | I11: 1 | J11: =H11*I11 -> 1
B12: 11 | C12: Systemet kan ikke gjenopprettes etter feil / krasj | D12: Manglende backup av systemet. Ikke testet backup. | E12: Commvault backup | H12: 2 | I12: 3 | J12: =H12*I12 -> 6 | K12: Verifisere at vi har backup/snapshots av systemet og databaser
B13: 12 | C13: Feil i systemet fører til underraportering i programvare ved uio | H13: 1 | I13: 3 | J13: =H13*I13 -> 3 | K13: Sikre at klientagent ikke kan avinstalleres. Rapporterer ikke fra Linux. Etablere rutine for at windows og mac'er som rapporterer inn stemmer med enheter i driftsopplegget. VDI og Mac'er er enda ikke på plass
B14: 13 | C14: Data kommer på avveie som følge av feil hos driftsleverandør | D14: Manglene dokumentasjon eller forsikringer om forsvarlig og sikker drift | H14: 1 | I14: 1 | J14: 0 | K14: ikke relevant
B15: 14 | C15: Nedetid pga. manglende dokumentasjon | D15: Integrasjoner som SAP, VDI og SCCM er ikke dokumentert godt nok | H15: 2 | I15: 2 | J15: =H15*I15 -> 4 | K15: Dokumentasjon må på plass frø systemet er i drift
B16: 15 | C16: Systemet er utilgjengelig pga. driftsstans | D16: Ustabil drift, ikke tilstrekkelig redundans | H16: 2 | I16: 3 | J16: =H16*I16 -> 6 | K16: Backup rutiner må dokumenters og testes
B17: 16 | C17: Systemet er utilgjengelig pga. nettverksfeil | D17: Ustabil drift, ikke tilstrekkelig redundans | H17: 2 | I17: 1 | J17: =H17*I17 -> 2
B18: 17 | C18: Systemet er utilgjengelig pga. DDOS | D18: Systemet er eksponert for angrep fra verden. Systemet har symbolverdi og noen ønsker å skade det. | E18: Vi har gode systemer for å sikre oss mot dette. | F18: ref. IT-sikkerhet | H18: 2 | I18: 1 | J18: =H18*I18 -> 2
B19: 18 | C19: Data kommer på avveie eller blir endret som følge av sårbarhet i programvaren | D19: Dårlig kvalitet på software. Utilstrekkelige driftsrutiner. Ikke patchet software. Software er avvhengig av sårbare komponenter som ikke kan oppdateres. | H19: 1 | I19: 1 | J19: =H19*I19 -> 1 | K19: Etablere rutiner for oppdateringer for FNMS
B20: 19 | C20: Data blir utilgjengelig som følge av hacking | D20: Dårlig sikret software. Ikke patchet software. Plassert i feil nettverkssone. | E20: Vi har gode systemer for å sikre oss mot dette. | F20: ref. IT-sikkerhet | H20: 1 | I20: 1 | J20: =H20*I20 -> 1 | K20: Applikasjonsserver er ikke tilgjengelig fra verden
B21: 20 | C21: Data kommer på avveie som følge av hacking | D21: Dårlig sikret software. Ikke patchet software. Plassert i feil nettverkssone. Manglende deteksjon av hendelser. | E21: Vi har gode systemer for å sikre oss mot dette. | F21: ref. IT-sikkerhet | H21: 1 | I21: 1 | J21: =H21*I21 -> 1
B22: 21 | C22: Data kommer på avveie som del i endring av integrasjoner | D22: Dårlig testing. Manglende dokumentsasjon og/eller forståelse for hvordan systemet virker. | E22: Integrasjoner er mot godt sikrede etablerte systemer, SCCM, VDI, SAP | H22: 1 | I22: 1 | J22: =H22*I22 -> 1 | K22: Må vurdereres på nytt når integrasjon mot Office 365 og Adobe CC opprettes
B23: 22 | C23: Data kommer på avveie pga. tilgang til bakkant-systemer - databaser, lagringsløsninger eller virtualiseringsløsninger. | D23: Infrastruktur ikke tilstrekkelig sikret for å kjøre systemet. | E23: Servere er ikke tilgjengelige for omverden. | H23: 1 | I23: 2 | J23: =H23*I23 -> 2 | K23: Sjekke om lagrinshotellet benyttes
B24: 23 | C24: Data kommer påavveie fordi systemet bruker usikre protokoller | D24: Systemet bruker klartekst protokoller eller protokoller med dårlig sikkkerhet. | E24: https og sertifikater er på plass på alle FNMS servere | H24: 2 | I24: 1 | J24: =H24*I24 -> 2 | K24: Vanlig http må deaktiveres på AppPortal server
B25: 24 | C25: Data kommer på avveie fordi systemet har dårlige utloggingsmekansimer | D25: Systemet har ikke implementert single-logout | E25: Driftede maskiner kan kun lagre passord o godkjente nettlesere | H25: 1 | I25: 2 | J25: =H25*I25 -> 2 | K25: Ingen utloggingsmulighet på FNMS. Rutiner for at man ikke kan lagre passord i ikke godkjente nettlesere (Firefox f.eks.)
A26: Mennesklige faktorer | B26: 25 | C26: Data blir endret som følge av hacking | D26: Dårlig sikret software. Ikke patchet software. Plassert i feil nettverkssone. | E26: De vanlige interne sikringsrutine skal sikre oss mot det | H26: 1 | I26: 2 | J26: =H26*I26 -> 2
B27: 26 | C27: Data kommer på avveie som følge av "side rutiner" rundt applikasjonen / systemet. | D27: Systemet støtter ikke prosessen den skal støtte så rutiner rundt er nødvendig. Lagring av inn/ut data på annet format ved siden av systemet. | H27: 2 | I27: 1 | J27: =H27*I27 -> 2 | K27: Rutiner ved utsending av f.eks. compliance rapporter må være gode. Dette er en manuell prosess p.d.d.
B28: 27 | C28: Data kommer på avveie som del i innlasting av data til systemet. | D28: Manuelle integrasjoner. Manuelle prosesser for å laste data inn. Usikre eller gamle integrasjoner. | E28: Automatiske integrasjoner sikrer prosessene | H28: 1 | I28: 1 | J28: =H28*I28 -> 1
B29: 28 | C29: Data kommer på avveie som del av utlasting fra systemet. | D29: Manuelle integrasjoner. Manuelle prosesser for å laste data ut. Usikre eller gamle integrasjoner. | E29: Automatiske integrasjoner sikrer prosessene | H29: 1 | I29: 1 | J29: =H29*I29 -> 1
B30: 29 | C30: Data kommer på avveie som del av arbeidsprosesser rundt systemet | D30: Systemet legger opp til at data skal eksporteres, sendes i e-post eller deles på annen måte. | E30: Dette er en manuell jobb p.d.d. Sendes kun til UiO e-poster | H30: 2 | I30: 1 | J30: =H30*I30 -> 2 | K30: Rutiner ved utsending av f.eks. compliance rapporter må være gode.
B31: 30 | C31: Data kommer på avveie som følge av lite kjennskap til systemet eller dårlig opplæring. | D31: Komplekst system, ikke tilstrekkelig opplæring | H31: 1 | I31: 1 | J31: =H31*I31 -> 1 | K31: Det er et komplekst system, men ingen data vil komme på avveie som en konsekvens av dette
B32: 31 | C32: Data kommer på avveie fordi systemet ikke benyttes, det benyttes alternative løsninger i stedet. | D32: Manglende lojalitet til bruk av systemet. Dårlig ledelsesforankring. For lite opplæring om interne ruiner. | E32: Ikke relevant, systemet skal ta over for ekisterende prosesser | H32: 1 | I32: 1 | J32: =H32*I32 -> 1
A33: Lovkrav og avtaler | B33: 32 | C33: Data kommer påavveie fordi systemet har dårlig sikkerhet på klientsiden | D33: Applikasjon har XSS sårbarheter. Ikke sikre cookies, CSRF, med mer. | H33: 2 | I33: 1 | J33: =H33*I33 -> 2 | K33: Klient for AD-maskiner må sikres at sender data over https
B34: 33 | C34: Systemet tilfredstiller ikke lovkrav ift. logging | D34: Utilstrekkelig logging til å avdekke lovlig og ulovlig bruk av systemet. | E34: Alt som gjøres logges | H34: 1 | I34: 1 | J34: =H34*I34 -> 1
B35: 34 | C35: Systemet tilfredstiller ikke lovkrav ift. logging | D35: Systemet lagrer logger for lenge, eller med for mye detaljer. | H35: 1 | I35: 1 | J35: =H35*I35 -> 1 | K35: Sikre at logging ikke går utover forskriftsmessige lover
B36: 35 | C36: Systemet har ikke databehandleravtale på plass | E36: Ikke relevant, internt system | J36: =H36*I36 -> 0
B37: 36 | C37: Systemet har skiftet eier eller forutsetninger siden systemet ble tatt i bruk. | D37: Databehandleravtaler eller driftsavtaler ikke oppdatert ift. endringer | E37: Ikke relevant, internt system | J37: =H37*I37 -> 0
B38: 37 | C38: Systemet benyttes til annet enn det databehandleravtalen tilsier | E38: Ikke relevant, internt system | J38: =H38*I38 -> 0
B39: 38 | C39: Systemet skiller ikke data fra flere kunder | D39: Utilstrekkelig separasjon mellom forskjellige kundersdata. | E39: Ikke relevant, internt system | F39: Andre enheter har allerede godkjent dette når de tok i bruk våre tjenester | H39: 1 | I39: 1 | J39: =H39*I39 -> 1
B40: 39 | C40: Det er ikke foretatt hjemmels- og formåls-vurdering av systemet. | D40: Det er ikke fortatt vurdering av om det finnes lovhjemmel til å samle inn og behandle de data som behandles i systemet. | E40: Dette er gjort | J40: =H40*I40 -> 0
B41: 40 | C41: Behandlingsansvarlig ( UiO ) får ikke fjernet data i systemet ved feilpublisering / teknisk feil eller annen lekkasje | D41: Uklare avtaler om varsling og håndtering av sikkerhetshendelser i systemet | E41: ikke relevant | J41: =H41*I41 -> 0
B42: 41 | C42: Behandlingsansvarlig ( UiO ) blir ikke varslet av leverandør ved sikkerhethendelse som påvirker UiOs data | D42: Manglende avtale med leverandør. Leverandør ønsker ikke å informere om hendelser pga. børsverdi, dårlig PR eller annet. | E42: ikke relevant | J42: =H42*I42 -> 0
B43: 42 | C43: UiOs data lekker til underleverandører, annonseringsselskaper eller andre. | D43: Leverandør mangler oversikt og kontroll over underleverandører. Mangel full varsling ved endring av systemet eller underleverandører | E43: ikke relevant | J43: =H43*I43 -> 0
B44: 42 | J44: =H44*I44 -> 0
B45: 43 | J45: =H45*I45 -> 0
B46: 45 | J46: =H46*I46 -> 0
B47: 46 | J47: =H47*I47 -> 0
B48: 47 | J48: =H48*I48 -> 0
B49: 48 | J49: =H49*I49 -> 0
B50: 49 | J50: =H50*I50 -> 0

Sheet Diagram

Sheet Bakgrunnsdata
C2: KIT-tabell | E2: Skala | I2: =Risikovurdering!H2 -> 1 | J2: =Risikovurdering!I2 -> 1 | K2: =RAND()*0.25+I2 -> 1.0571022 | L2: =J2+RAND()*0.25 -> 1.0597382 | M2: =Risikovurdering!J2 -> 1
C3: K | E3: 1 | I3: =Risikovurdering!H3 -> 1 | J3: =Risikovurdering!I3 -> 1 | K3: =RAND()*0.25+I3 -> 1.1125472 | L3: =J3+RAND()*0.25 -> 1.1251307 | M3: =Risikovurdering!J3 -> 1
C4: I | E4: 2 | I4: =Risikovurdering!H4 -> 1 | J4: =Risikovurdering!I4 -> 1 | K4: =RAND()*0.25+I4 -> 1.0518124 | L4: =J4+RAND()*0.25 -> 1.156952 | M4: =Risikovurdering!J4 -> 1
C5: T | E5: 3 | I5: =Risikovurdering!H5 -> 1 | J5: =Risikovurdering!I5 -> 1 | K5: =RAND()*0.25+I5 -> 1.2377511 | L5: =J5+RAND()*0.25 -> 1.0544856 | M5: =Risikovurdering!J5 -> 1
C6: KI | E6: 4 | I6: =Risikovurdering!H6 -> 2 | J6: =Risikovurdering!I6 -> 1 | K6: =RAND()*0.25+I6 -> 2.2387812 | L6: =J6+RAND()*0.25 -> 1.2140021 | M6: =Risikovurdering!J6 -> 2
C7: KT | I7: =Risikovurdering!H7 -> 1 | J7: =Risikovurdering!I7 -> 2 | K7: =RAND()*0.25+I7 -> 1.0942187 | L7: =J7+RAND()*0.25 -> 2.0295955 | M7: =Risikovurdering!J7 -> 2
C8: IT | I8: =Risikovurdering!H8 -> 1 | J8: =Risikovurdering!I8 -> 2 | K8: =RAND()*0.25+I8 -> 1.1289301 | L8: =J8+RAND()*0.25 -> 2.0509345 | M8: =Risikovurdering!J8 -> 2
C9: KIT | I9: =Risikovurdering!H9 -> 1 | J9: =Risikovurdering!I9 -> 1 | K9: =RAND()*0.25+I9 -> 1.1479977 | L9: =J9+RAND()*0.25 -> 1.1922749 | M9: =Risikovurdering!J9 -> 1
I10: =Risikovurdering!H10 -> 1 | J10: =Risikovurdering!I10 -> 1 | K10: =RAND()*0.25+I10 -> 1.0628983 | L10: =J10+RAND()*0.25 -> 1.1746465 | M10: =Risikovurdering!J10 -> 1
I11: =Risikovurdering!H11 -> 1 | J11: =Risikovurdering!I11 -> 1 | K11: =RAND()*0.25+I11 -> 1.2068704 | L11: =J11+RAND()*0.25 -> 1.013235 | M11: =Risikovurdering!J11 -> 1
I12: =Risikovurdering!H12 -> 2 | J12: =Risikovurdering!I12 -> 3 | K12: =RAND()*0.25+I12 -> 2.1285424 | L12: =J12+RAND()*0.25 -> 3.1759751 | M12: =Risikovurdering!J12 -> 6
I13: =Risikovurdering!H14 -> 1 | J13: =Risikovurdering!I14 -> 1 | K13: =RAND()*0.25+I13 -> 1.2219757 | L13: =J13+RAND()*0.25 -> 1.2423788 | M13: =Risikovurdering!J14 -> 0
I14: =Risikovurdering!H15 -> 2 | J14: =Risikovurdering!I15 -> 2 | K14: =RAND()*0.25+I14 -> 2.0027675 | L14: =J14+RAND()*0.25 -> 2.1711276 | M14: =Risikovurdering!J15 -> 4
I15: =Risikovurdering!H16 -> 2 | J15: =Risikovurdering!I16 -> 3 | K15: =RAND()*0.25+I15 -> 2.1600618 | L15: =J15+RAND()*0.25 -> 3.1445236 | M15: =Risikovurdering!J16 -> 6
I16: =Risikovurdering!H17 -> 2 | J16: =Risikovurdering!I17 -> 1 | K16: =RAND()*0.25+I16 -> 2.0580763 | L16: =J16+RAND()*0.25 -> 1.0268931 | M16: =Risikovurdering!J17 -> 2
I17: =Risikovurdering!H18 -> 2 | J17: =Risikovurdering!I18 -> 1 | K17: =RAND()*0.25+I17 -> 2.2470487 | L17: =J17+RAND()*0.25 -> 1.1763099 | M17: =Risikovurdering!J18 -> 2
I18: =Risikovurdering!H19 -> 1 | J18: =Risikovurdering!I19 -> 1 | K18: =RAND()*0.25+I18 -> 1.1107952 | L18: =J18+RAND()*0.25 -> 1.2430756 | M18: =Risikovurdering!J19 -> 1
I19: =Risikovurdering!H20 -> 1 | J19: =Risikovurdering!I20 -> 1 | K19: =RAND()*0.25+I19 -> 1.2163902 | L19: =J19+RAND()*0.25 -> 1.23798 | M19: =Risikovurdering!J20 -> 1
I20: =Risikovurdering!H21 -> 1 | J20: =Risikovurdering!I21 -> 1 | K20: =RAND()*0.25+I20 -> 1.027905 | L20: =J20+RAND()*0.25 -> 1.0619518 | M20: =Risikovurdering!J21 -> 1
I21: =Risikovurdering!H22 -> 1 | J21: =Risikovurdering!I22 -> 1 | K21: =RAND()*0.25+I21 -> 1.0942052 | L21: =J21+RAND()*0.25 -> 1.2499795 | M21: =Risikovurdering!J22 -> 1
I22: =Risikovurdering!H23 -> 1 | J22: =Risikovurdering!I23 -> 2 | K22: =RAND()*0.25+I22 -> 1.2069744 | L22: =J22+RAND()*0.25 -> 2.2013465 | M22: =Risikovurdering!J23 -> 2
I23: =Risikovurdering!H24 -> 2 | J23: =Risikovurdering!I26 -> 2 | K23: =RAND()*0.25+I23 -> 2.0365131 | L23: =J23+RAND()*0.25 -> 2.0098406 | M23: =Risikovurdering!J26 -> 2
I24: =Risikovurdering!H25 -> 1 | J24: =Risikovurdering!I27 -> 1 | K24: =RAND()*0.25+I24 -> 1.1643193 | L24: =J24+RAND()*0.25 -> 1.222 | M24: =Risikovurdering!J27 -> 2
I25: =Risikovurdering!H26 -> 1 | J25: =Risikovurdering!I28 -> 1 | K25: =RAND()*0.25+I25 -> 1.2343123 | L25: =J25+RAND()*0.25 -> 1.0803848 | M25: =Risikovurdering!J28 -> 1
I26: =Risikovurdering!H27 -> 2 | J26: =Risikovurdering!I29 -> 1 | K26: =RAND()*0.25+I26 -> 2.0827067 | L26: =J26+RAND()*0.25 -> 1.2262252 | M26: =Risikovurdering!J29 -> 1
I27: =Risikovurdering!H28 -> 1 | J27: =Risikovurdering!I30 -> 1 | K27: =RAND()*0.25+I27 -> 1.0822838 | L27: =J27+RAND()*0.25 -> 1.0426982 | M27: =Risikovurdering!J30 -> 2
I28: =Risikovurdering!H29 -> 1 | J28: =Risikovurdering!I31 -> 1 | K28: =RAND()*0.25+I28 -> 1.009792 | L28: =J28+RAND()*0.25 -> 1.1081156 | M28: =Risikovurdering!J31 -> 1
I29: =Risikovurdering!H30 -> 2 | J29: =Risikovurdering!I32 -> 1 | K29: =RAND()*0.25+I29 -> 2.1746182 | L29: =J29+RAND()*0.25 -> 1.1748758 | M29: =Risikovurdering!J32 -> 1
I30: =Risikovurdering!H31 -> 1 | J30: =Risikovurdering!I24 -> 1 | K30: =RAND()*0.25+I30 -> 1.0111049 | L30: =J30+RAND()*0.25 -> 1.1556828 | M30: =Risikovurdering!J24 -> 2
I31: =Risikovurdering!H32 -> 1 | J31: =Risikovurdering!I33 -> 1 | K31: =RAND()*0.25+I31 -> 1.1674241 | L31: =J31+RAND()*0.25 -> 1.2209678 | M31: =Risikovurdering!J33 -> 2
I32: =Risikovurdering!H33 -> 2 | J32: =Risikovurdering!I25 -> 2 | K32: =RAND()*0.25+I32 -> 2.1043844 | L32: =J32+RAND()*0.25 -> 2.1140946 | M32: =Risikovurdering!J25 -> 2
I33: =Risikovurdering!H34 -> 1 | J33: =Risikovurdering!I34 -> 1 | K33: =RAND()*0.25+I33 -> 1.115657 | L33: =J33+RAND()*0.25 -> 1.077141 | M33: =Risikovurdering!J34 -> 1
I34: =Risikovurdering!H35 -> 1 | J34: =Risikovurdering!I35 -> 1 | K34: =RAND()*0.25+I34 -> 1.1678876 | L34: =J34+RAND()*0.25 -> 1.1514069 | M34: =Risikovurdering!J35 -> 1
I35: =Risikovurdering!H36 -> 0 | J35: =Risikovurdering!I36 -> 0 | K35: =RAND()*0.25+I35 -> 0.18624195 | L35: =J35+RAND()*0.25 -> 0.02224133 | M35: =Risikovurdering!J36 -> 0
I36: =Risikovurdering!H37 -> 0 | J36: =Risikovurdering!I38 -> 0 | K36: =RAND()*0.25+I36 -> 0.015153754 | L36: =J36+RAND()*0.25 -> 0.18784847 | M36: =Risikovurdering!J38 -> 0
I37: =Risikovurdering!H38 -> 0 | J37: =Risikovurdering!I39 -> 1 | K37: =RAND()*0.25+I37 -> 0.1503086 | L37: =J37+RAND()*0.25 -> 1.2282323 | M37: =Risikovurdering!J39 -> 1
I38: =Risikovurdering!H39 -> 1 | J38: =Risikovurdering!I40 -> 0 | K38: =RAND()*0.25+I38 -> 1.0267267 | L38: =J38+RAND()*0.25 -> 0.10179316 | M38: =Risikovurdering!J40 -> 0
I39: =Risikovurdering!H40 -> 0 | J39: =Risikovurdering!I41 -> 0 | K39: =RAND()*0.25+I39 -> 0.0020210189 | L39: =J39+RAND()*0.25 -> 0.092420523 | M39: =Risikovurdering!J41 -> 0
I40: =Risikovurdering!H41 -> 0 | J40: =Risikovurdering!I42 -> 0 | K40: =RAND()*0.25+I40 -> 0.012583221 | L40: =J40+RAND()*0.25 -> 0.084093101 | M40: =Risikovurdering!J42 -> 0
I41: =Risikovurdering!H42 -> 0 | J41: =Risikovurdering!I43 -> 0 | K41: =RAND()*0.25+I41 -> 0.19897486 | L41: =J41+RAND()*0.25 -> 0.17208972 | M41: =Risikovurdering!J43 -> 0
I42: =Risikovurdering!H43 -> 0 | J42: =Risikovurdering!I44 -> 0 | K42: =RAND()*0.25+I42 -> 0.0016237402 | L42: =J42+RAND()*0.25 -> 0.2167062 | M42: =Risikovurdering!J44 -> 0
I43: =Risikovurdering!H44 -> 0 | J43: =Risikovurdering!I45 -> 0 | K43: =RAND()*0.25+I43 -> 0.14156205 | L43: =J43+RAND()*0.25 -> 0.1374634 | M43: =Risikovurdering!J45 -> 0
I44: =Risikovurdering!H45 -> 0 | J44: =Risikovurdering!I13 -> 3 | K44: =RAND()*0.25+I44 -> 0.15422019 | L44: =J44+RAND()*0.25 -> 3.0195333 | M44: =Risikovurdering!J13 -> 3
I45: =Risikovurdering!H13 -> 1 | J45: =Risikovurdering!I46 -> 0 | K45: =RAND()*0.25+I45 -> 1.1291551 | L45: =J45+RAND()*0.25 -> 0.0088017412 | M45: =Risikovurdering!J46 -> 0
I46: =Risikovurdering!H46 -> 0 | J46: =Risikovurdering!I47 -> 0 | K46: =RAND()*0.25+I46 -> 0.24580728 | L46: =J46+RAND()*0.25 -> 0.046482747 | M46: =Risikovurdering!J47 -> 0
I47: =Risikovurdering!H47 -> 0 | J47: =Risikovurdering!I48 -> 0 | K47: =RAND()*0.25+I47 -> 0.028271516 | L47: =J47+RAND()*0.25 -> 0.020844621 | M47: =Risikovurdering!J48 -> 0
I48: =Risikovurdering!H48 -> 0 | J48: =Risikovurdering!I49 -> 0 | K48: =RAND()*0.25+I48 -> 0.085231447 | L48: =J48+RAND()*0.25 -> 0.10997253 | M48: =Risikovurdering!J49 -> 0
I49: =Risikovurdering!H49 -> 0 | J49: =Risikovurdering!I50 -> 0 | K49: =RAND()*0.25+I49 -> 0.0068735577 | L49: =J49+RAND()*0.25 -> 0.22175576 | M49: =Risikovurdering!J50 -> 0
I50: =Risikovurdering!H50 -> 0
I51: =Risikovurdering!H51 -> 0
I52: =Risikovurdering!H52 -> 0
I53: =Risikovurdering!H53 -> 0
I54: =Risikovurdering!H54 -> 0
I55: =Risikovurdering!H55 -> 0
